BEGIN:VCALENDAR
VERSION:2.0
PRODID:-//Calix Borterasz - ECPv6.6.3//NONSGML v1.0//EN
CALSCALE:GREGORIAN
METHOD:PUBLISH
X-ORIGINAL-URL:https://calixborterasz.hu
X-WR-CALDESC:Events for Calix Borterasz
REFRESH-INTERVAL;VALUE=DURATION:PT1H
X-Robots-Tag:noindex
X-PUBLISHED-TTL:PT1H
BEGIN:VTIMEZONE
TZID:UTC
BEGIN:STANDARD
TZOFFSETFROM:+0000
TZOFFSETTO:+0000
TZNAME:UTC
DTSTART:20240101T000000
END:STANDARD
END:VTIMEZONE
BEGIN:VEVENT
DTSTART;TZID=UTC:20240921T150000
DTEND;TZID=UTC:20240922T010000
DTSTAMP:20260421T220342
CREATED:20240907T150110Z
LAST-MODIFIED:20240907T150119Z
UID:2245-1726930800-1726966800@calixborterasz.hu
SUMMARY:Calix Borfesztivál - 3 borvidék találkozása
DESCRIPTION:Élvezd a szabadság ízét a dombok felett\, a Neszmélyi borvidéken\, Nyergesújfaluban!\nSzeptember 21-én\, a Calix borfesztiválon együtt csordogálunk bele a Neszmélyi-\, a Hajós-Bajai borvidék és a felvidéki Garam-mente különleges borkölteményeinek kóstolásába!\nIdőpont: 2024. szeptember 21. (szombat)\, 15:00 \nMire számíthatsz?\n\nA fesztiválon több különleges borászat képviselteti magát\, ízelítőt adva a három említett borvidék legnemesebb boraiból.\nA borkóstoláshoz finom sajtokkal és kézműves termékekkel készülünk\, hogy egy teljes élményt nyújthassunk.\nA hazai ízek sem maradhatnak el\, ínycsiklandó falatok várnak rád!\nMuzsikaszó? Sosem hagyunk nélküle: a parádés hangulatról a Szalai Band gondoskodik!\n\nPlusz programok:\nTalálkozhatsz őszi fotósarokkal\, hogy haza is tudj vinni egy korty emléket az estéről!\nPiknikplacc: te\, a szeretteid\, babzsákok\, padok & asztalok a barackfák alatt (az időjárás függvényében változhat)\, mi kell még?\nPalackozd be a dátumot a naptárba\, ahol a kiváló nedűk és a szabadság ízei egyesülnek – bízz bennünk\, ebből csak jó dolog érlelődhet ki!\nTovábbi részletek hamarosan\, ha bármi kérdésed van\, fordulj hozzánk bizalommal!\n@Nyergesújfalu Önkormányzat együttműködésével
URL:https://calixborterasz.hu/aktualis-esemenyeink/calix-borfesztival-3-borvidek-talalkozasa/
LOCATION:Calix Borterasz\, Németvölgy 112\, Nyergesújfalu\, Komárom - Esztergom vármegye\, 2536\, Hungary
CATEGORIES:Borfesztivál,Rendezvény
ATTACH;FMTTYPE=image/jpeg:https://calixborterasz.hu/wp-content/uploads/2024/09/calix-borfesztival-mobil.jpg
END:VEVENT
END:VCALENDAR