BEGIN:VCALENDAR
VERSION:2.0
PRODID:-//Calix Borterasz - ECPv6.6.3//NONSGML v1.0//EN
CALSCALE:GREGORIAN
METHOD:PUBLISH
X-WR-CALNAME:Calix Borterasz
X-ORIGINAL-URL:https://calixborterasz.hu
X-WR-CALDESC:Events for Calix Borterasz
REFRESH-INTERVAL;VALUE=DURATION:PT1H
X-Robots-Tag:noindex
X-PUBLISHED-TTL:PT1H
BEGIN:VTIMEZONE
TZID:UTC
BEGIN:STANDARD
TZOFFSETFROM:+0000
TZOFFSETTO:+0000
TZNAME:UTC
DTSTART:20240101T000000
END:STANDARD
END:VTIMEZONE
BEGIN:VEVENT
DTSTART;TZID=UTC:20240922T100000
DTEND;TZID=UTC:20240922T170000
DTSTAMP:20260420T042949
CREATED:20240907T150708Z
LAST-MODIFIED:20240907T150708Z
UID:2251-1726999200-1727024400@calixborterasz.hu
SUMMARY:Őszi Esküvői Nyílt Nap
DESCRIPTION:Őszi Esküvői Nyílt Nap – ahol most minden csak rólatok szól!\nKedves házasulandó jegyespárok és esküvői szolgáltató kollégák! Nagy örömünkre szolgál\, hogy immáron a 3. Esküvői Nyílt Napunkat tarthatjuk a 𝗖𝗔𝗟𝗜𝗫 𝗕𝗼𝗿𝘁𝗲𝗿𝘀𝘇𝘂𝗻𝗸𝗼𝗻\, a Neszmélyi Borvidék szívében\, Nyergesújfaluban!\nToszkán stílus / Felhőtlen hangulat / Természetközeli helyszín / Örök szerelem a dombok felett – ez a Calix Borterasz\n𝗦𝘇𝗲𝗽𝘁𝗲𝗺𝗯𝗲𝗿 𝟮𝟮-𝗲́𝗻 (𝘃𝗮𝘀𝗮́𝗿𝗻𝗮𝗽) 𝟭𝟬:𝟬𝟬 𝗼́𝗿𝗮́𝘁𝗼́𝗹 szeretettel várunk különleges nyílt napunkon\, ahol személyesen is találkozhattok velünk és megmutatjuk\, milyen lenyűgöző lehetőségeket kínál számotokra esküvői helyszínünk. \n𝗠𝗶𝘃𝗲𝗹 𝗶𝘀 𝘃𝗮́𝗿𝘂𝗻𝗸 𝗧𝗶𝘁𝗲𝗸𝗲𝘁?\nWelcome pezsgővel\,\negyéni helyszíni körbevezetéssel\,\nborkóstolóval\,\nmennyei falatokkal\,\njó hangulattal és zenével várunk… és még sorolhatnánk!\nMegismerkedhettek elhivatott szolgáltatóinkkal\, hogy a nagy nap\, a tökéletesen megálmodott NAGY NAP legyen!\n𝗔𝘇 𝗲𝘀𝗲𝗺𝗲́𝗻𝘆 𝗶𝗻𝗴𝘆𝗲𝗻𝗲𝘀𝗲𝗻 𝗹𝗮́𝘁𝗼𝗴𝗮𝘁𝗵𝗮𝘁𝗼́\, viszont előzetes regisztrációhoz kötött\, ezt pedig a calix@calixborterasz.hu e-mail címen tudjátok megtenni! Kérjük\, írjátok le nekünk\, hogy hány fővel érkeznétek.\n𝗣𝗿𝗼𝗴𝗿𝗮𝗺𝘁𝗲𝗿𝘃:️\n10:00 Érkezés\n10:30 Helyszínbejárás\n11:00 Borászati bemutató\, borkóstoló\n12:00-17:00 Ismerkedés a szolgáltatókkal\, kóstolók\, kötetlen beszélgetés\nTermészetesen bármikor érkezhettek\, rendezvényszervezőnk készséggel áll rendelkezésetekre!\nNe maradjatok le\, ismerjétek meg festői helyszínünket\, és csapjatok le a legjobb 2025-ös dátumokra!\n🎁 AJÁNDÉK! Amennyiben le is foglaljátok a dátumot\, most egy különleges panoráma szertartást adunk ajándékba!\nA programváltoztatás jogát fenntartjuk.\nVárunk mindenkit szeretettel!
URL:https://calixborterasz.hu/aktualis-esemenyeink/oszi-eskuvoi-nyilt-nap/
CATEGORIES:Esküvő,Esküvői Nyílt Nap
ATTACH;FMTTYPE=image/jpeg:https://calixborterasz.hu/wp-content/uploads/2024/09/post-1080-x1080-1.jpg
END:VEVENT
END:VCALENDAR